BEGIN:VCALENDAR
VERSION:2.0
PRODID:-//www.ketchikanarts.org//NONSGML kigkonsult.se iCalcreator 2.30.10/
 /
CALSCALE:GREGORIAN
METHOD:PUBLISH
UID:83479a8f-5bbe-4cc5-b687-4d85b1ed14c3
X-WR-CALDESC:First City Players Inaugural Ward Lake Theater\n\nCall 907-225
 -4792 or email info@firstcityplayers.org for more information.\n\n
X-WR-RELCALID:10cd0111414fe70a61e8520fb360942a
X-WR-TIMEZONE:America/Anchorage
BEGIN:VTIMEZONE
TZID:America/Anchorage
BEGIN:STANDARD
TZNAME:AKST
DTSTART:20191103T020000
TZOFFSETFROM:-0800
TZOFFSETTO:-0900
RDATE:20201101T020000
RDATE:20211107T020000
END:STANDARD
BEGIN:DAYLIGHT
TZNAME:AKDT
DTSTART:20200308T020000
TZOFFSETFROM:-0900
TZOFFSETTO:-0800
RDATE:20210314T020000
END:DAYLIGHT
END:VTIMEZONE
BEGIN:VEVENT
UID:626615f9-9f7f-4be1-a8ed-e85dda6d4230
DTSTAMP:20260421T160815Z
DESCRIPTION:First City Players Inaugural Ward Lake Theater\n\nCall 907-225-
 4792 or email info@firstcityplayers.org for more information.\n\n
DTSTART;TZID=America/Anchorage:20200904T170000
DTEND;TZID=America/Anchorage:20200904T180000
LOCATION:Ward Lake
SUMMARY:First City Players Ward Lake Theater
END:VEVENT
END:VCALENDAR
