BEGIN:VCALENDAR
VERSION:2.0
PRODID:-//www.ketchikanarts.org//NONSGML kigkonsult.se iCalcreator 2.30.10/
 /
CALSCALE:GREGORIAN
METHOD:PUBLISH
UID:5b5a6a81-7333-49c4-bbc7-6f76c6b9e2c5
X-WR-CALDESC:Dinner and a Show! Fish Pirate's Daughter and George Inlet\,\n
 All You Can Eat Crab Feast \n4 Nights Only\; August 21\, 22\, 28\,29 \n6:3
 0 PM\nGeneral Admission $69
X-WR-RELCALID:df6a4576824f402fca6c06c1e074046e
X-WR-TIMEZONE:America/Anchorage
BEGIN:VTIMEZONE
TZID:America/Anchorage
BEGIN:STANDARD
TZNAME:AKST
DTSTART:20191103T020000
TZOFFSETFROM:-0800
TZOFFSETTO:-0900
RDATE:20201101T020000
RDATE:20211107T020000
END:STANDARD
BEGIN:DAYLIGHT
TZNAME:AKDT
DTSTART:20200308T020000
TZOFFSETFROM:-0900
TZOFFSETTO:-0800
RDATE:20210314T020000
END:DAYLIGHT
END:VTIMEZONE
BEGIN:VEVENT
UID:286a7186-3836-4633-bc8a-a49ffd8242a4
DTSTAMP:20260421T173433Z
DESCRIPTION:Dinner and a Show! Fish Pirate's Daughter and George Inlet\,\nA
 ll You Can Eat Crab Feast \n4 Nights Only\; August 21\, 22\, 28\,29 \n6:30
  PM\nGeneral Admission $69
DTSTART;TZID=America/Anchorage:20200828T193000
DTEND;TZID=America/Anchorage:20200828T213000
LOCATION:George Inlet Lodge
SUMMARY:FCP Fish Pirates Daughter
END:VEVENT
END:VCALENDAR
