BEGIN:VCALENDAR
VERSION:2.0
PRODID:-//www.ketchikanarts.org//NONSGML kigkonsult.se iCalcreator 2.30.10/
 /
CALSCALE:GREGORIAN
METHOD:PUBLISH
UID:4d165363-8cd8-47a1-8881-4e4737ea2cf7
X-WR-CALDESC:Calling all Artists!!! Come one come all! The Ketchikan Area A
 rts and Humanities Council will celebrate 50 years of service to the Ketch
 ikan community as a 501c3  in September!  We are bringing back the 100X100
  fundraising exhibit from 2009 to kick off a year of celebrations! The exh
 ibit will feature 100 pieces of artwork by local artists for $100 each. Pr
 oceeds will support the Arts Council's endowment fund to help sustain the 
 organization for another 50 years and beyond! Artists are invited to creat
 e up to two pieces of art for this exhibit!\nDeadline for submissions is A
 ugust 28th at 5:00 pm. 
X-WR-RELCALID:48c1a8d6e27009aaeaa17ef6ea022103
X-WR-TIMEZONE:America/Anchorage
BEGIN:VTIMEZONE
TZID:America/Anchorage
BEGIN:STANDARD
TZNAME:AKST
DTSTART:20191103T020000
TZOFFSETFROM:-0800
TZOFFSETTO:-0900
RDATE:20201101T020000
RDATE:20211107T020000
END:STANDARD
BEGIN:DAYLIGHT
TZNAME:AKDT
DTSTART:20200308T020000
TZOFFSETFROM:-0900
TZOFFSETTO:-0800
RDATE:20210314T020000
END:DAYLIGHT
END:VTIMEZONE
BEGIN:VEVENT
UID:b6f00a9a-39d6-44c2-870b-9c7f70417a20
DTSTAMP:20260421T173844Z
DESCRIPTION:Calling all Artists!!! Come one come all! The Ketchikan Area Ar
 ts and Humanities Council will celebrate 50 years of service to the Ketchi
 kan community as a 501c3  in September!  We are bringing back the 100X100 
 fundraising exhibit from 2009 to kick off a year of celebrations! The exhi
 bit will feature 100 pieces of artwork by local artists for $100 each. Pro
 ceeds will support the Arts Council's endowment fund to help sustain the o
 rganization for another 50 years and beyond! Artists are invited to create
  up to two pieces of art for this exhibit!\nDeadline for submissions is Au
 gust 28th at 5:00 pm. 
DTSTART;TZID=America/Anchorage:20200826T090000
DTEND;TZID=America/Anchorage:20200828T170000
LOCATION:Main Street Gallery
SUMMARY:100 x 100 Call to Artist Deadline
END:VEVENT
END:VCALENDAR
