BEGIN:VCALENDAR
VERSION:2.0
PRODID:-//www.ketchikanarts.org//NONSGML kigkonsult.se iCalcreator 2.30.10/
 /
CALSCALE:GREGORIAN
METHOD:PUBLISH
UID:6ffdf292-0e70-464d-b557-680edd075e54
X-WR-CALDESC:Dinner and a Show! Fish Pirate's Daughter and George Inlet\,\n
 All You Can Eat Crab Feast \n4 Nights Only\; August 21\, 22\, 28\,29 \n6:3
 0 PM\nGeneral Admission $69
X-WR-RELCALID:5708b3e46caf320f8482e4d7bf6534e8
X-WR-TIMEZONE:America/Anchorage
BEGIN:VTIMEZONE
TZID:America/Anchorage
BEGIN:STANDARD
TZNAME:AKST
DTSTART:20191103T020000
TZOFFSETFROM:-0800
TZOFFSETTO:-0900
RDATE:20201101T020000
RDATE:20211107T020000
END:STANDARD
BEGIN:DAYLIGHT
TZNAME:AKDT
DTSTART:20200308T020000
TZOFFSETFROM:-0900
TZOFFSETTO:-0800
RDATE:20210314T020000
END:DAYLIGHT
END:VTIMEZONE
BEGIN:VEVENT
UID:9991bc20-552d-4bd4-b097-c5b0c13c15b4
DTSTAMP:20260421T173434Z
DESCRIPTION:Dinner and a Show! Fish Pirate's Daughter and George Inlet\,\nA
 ll You Can Eat Crab Feast \n4 Nights Only\; August 21\, 22\, 28\,29 \n6:30
  PM\nGeneral Admission $69
DTSTART;TZID=America/Anchorage:20200822T063000
DTEND;TZID=America/Anchorage:20200822T213000
LOCATION:George Inlet Lodge
SUMMARY:FCP Fish Pirates Daughter
END:VEVENT
END:VCALENDAR
