BEGIN:VCALENDAR
VERSION:2.0
PRODID:-//www.ketchikanarts.org//NONSGML kigkonsult.se iCalcreator 2.30.10/
 /
CALSCALE:GREGORIAN
METHOD:PUBLISH
UID:e63bd731-751d-4474-b18f-b3104e813234
X-WR-CALDESC:Must purchase tickets in advance over the phone.
X-WR-RELCALID:f94e1bfa697816c69c5dcd75be51b87a
X-WR-TIMEZONE:America/Anchorage
BEGIN:VTIMEZONE
TZID:America/Anchorage
BEGIN:STANDARD
TZNAME:AKST
DTSTART:20191103T020000
TZOFFSETFROM:-0800
TZOFFSETTO:-0900
RDATE:20201101T020000
RDATE:20211107T020000
END:STANDARD
BEGIN:DAYLIGHT
TZNAME:AKDT
DTSTART:20200308T020000
TZOFFSETFROM:-0900
TZOFFSETTO:-0800
RDATE:20210314T020000
END:DAYLIGHT
END:VTIMEZONE
BEGIN:VEVENT
UID:e08a3526-ce00-4432-88ae-d315e5de77d8
DTSTAMP:20260421T173855Z
DESCRIPTION:Must purchase tickets in advance over the phone.
DTSTART;TZID=America/Anchorage:20200816T143000
DTEND;TZID=America/Anchorage:20200816T160000
LOCATION:Kayhi Auditorium
SUMMARY:Frst City Players Into the Woods
END:VEVENT
END:VCALENDAR
