BEGIN:VCALENDAR
VERSION:2.0
PRODID:-//www.ketchikanarts.org//NONSGML kigkonsult.se iCalcreator 2.30.10/
 /
CALSCALE:GREGORIAN
METHOD:PUBLISH
UID:503666b7-09eb-47b0-b08f-df03bf7417ba
X-WR-CALDESC:Must purchase tickets in advance over the phone.
X-WR-RELCALID:d7f02b4d1c053e0c9fba5494311a592b
X-WR-TIMEZONE:America/Anchorage
BEGIN:VTIMEZONE
TZID:America/Anchorage
BEGIN:STANDARD
TZNAME:AKST
DTSTART:20191103T020000
TZOFFSETFROM:-0800
TZOFFSETTO:-0900
RDATE:20201101T020000
RDATE:20211107T020000
END:STANDARD
BEGIN:DAYLIGHT
TZNAME:AKDT
DTSTART:20200308T020000
TZOFFSETFROM:-0900
TZOFFSETTO:-0800
RDATE:20210314T020000
END:DAYLIGHT
END:VTIMEZONE
BEGIN:VEVENT
UID:a2a16eb7-2855-461a-9d3c-caa1f368f723
DTSTAMP:20260421T173843Z
DESCRIPTION:Must purchase tickets in advance over the phone.
DTSTART;TZID=America/Anchorage:20200815T193000
DTEND;TZID=America/Anchorage:20200815T210000
LOCATION:Kayhi Auditorium
SUMMARY:Frst City Players Into the Woods
END:VEVENT
END:VCALENDAR
