BEGIN:VCALENDAR
VERSION:2.0
PRODID:-//www.ketchikanarts.org//NONSGML kigkonsult.se iCalcreator 2.30.10/
 /
CALSCALE:GREGORIAN
METHOD:PUBLISH
UID:977d0334-f04e-42d7-9355-cdedbdfdb11d
X-WR-CALDESC:Must purchase tickets in advance over the phone.
X-WR-RELCALID:172c35ab95fa66bf6cedac396a211d47
X-WR-TIMEZONE:America/Anchorage
BEGIN:VTIMEZONE
TZID:America/Anchorage
BEGIN:STANDARD
TZNAME:AKST
DTSTART:20191103T020000
TZOFFSETFROM:-0800
TZOFFSETTO:-0900
RDATE:20201101T020000
RDATE:20211107T020000
END:STANDARD
BEGIN:DAYLIGHT
TZNAME:AKDT
DTSTART:20200308T020000
TZOFFSETFROM:-0900
TZOFFSETTO:-0800
RDATE:20210314T020000
END:DAYLIGHT
END:VTIMEZONE
BEGIN:VEVENT
UID:d5f98c83-3fb4-4ddc-90fe-6c05eea9c0dc
DTSTAMP:20260421T173552Z
DESCRIPTION:Must purchase tickets in advance over the phone.
DTSTART;TZID=America/Anchorage:20200815T143000
DTEND;TZID=America/Anchorage:20200815T160000
LOCATION:Kayhi Auditorium
SUMMARY:Frst City Players Frog and Toad
END:VEVENT
END:VCALENDAR
