BEGIN:VCALENDAR
VERSION:2.0
PRODID:-//www.ketchikanarts.org//NONSGML kigkonsult.se iCalcreator 2.30.10/
 /
CALSCALE:GREGORIAN
METHOD:PUBLISH
UID:014f1c95-ab4c-49b1-b6dd-ba16c285b9fe
X-WR-CALDESC:Rob Holston performs Obvious Jazz every Friday and Saturday 6-
 8 PM at the Timbers Restaurant located in the Salmon Falls Resort North To
 ngass Hwy.
X-WR-RELCALID:5b67048935e2e4eb566cf2fc4e09902a
X-WR-TIMEZONE:America/Anchorage
BEGIN:VTIMEZONE
TZID:America/Anchorage
BEGIN:STANDARD
TZNAME:AKST
DTSTART:20191103T020000
TZOFFSETFROM:-0800
TZOFFSETTO:-0900
RDATE:20201101T020000
RDATE:20211107T020000
END:STANDARD
BEGIN:DAYLIGHT
TZNAME:AKDT
DTSTART:20200308T020000
TZOFFSETFROM:-0900
TZOFFSETTO:-0800
RDATE:20210314T020000
END:DAYLIGHT
END:VTIMEZONE
BEGIN:VEVENT
UID:a1379a31-e9e3-4220-a520-a7f0f8de97d0
DTSTAMP:20260421T173609Z
DESCRIPTION:Rob Holston performs Obvious Jazz every Friday and Saturday 6-8
  PM at the Timbers Restaurant located in the Salmon Falls Resort North Ton
 gass Hwy.
DTSTART;TZID=America/Anchorage:20200815T180000
DTEND;TZID=America/Anchorage:20200815T200000
LOCATION:Timbers Resturant Salmon Falls Resort
SUMMARY:Obvious Jazz
END:VEVENT
END:VCALENDAR
