BEGIN:VCALENDAR
VERSION:2.0
PRODID:-//www.ketchikanarts.org//NONSGML kigkonsult.se iCalcreator 2.30.10/
 /
CALSCALE:GREGORIAN
METHOD:PUBLISH
UID:e5e00de1-c509-46a6-b884-5cd87d9097b3
X-WR-CALDESC:Must purchase tickets in advance over the phone.
X-WR-RELCALID:796975b707f71d7949d08e1c4de6e3f9
X-WR-TIMEZONE:America/Anchorage
BEGIN:VTIMEZONE
TZID:America/Anchorage
BEGIN:STANDARD
TZNAME:AKST
DTSTART:20191103T020000
TZOFFSETFROM:-0800
TZOFFSETTO:-0900
RDATE:20201101T020000
RDATE:20211107T020000
END:STANDARD
BEGIN:DAYLIGHT
TZNAME:AKDT
DTSTART:20200308T020000
TZOFFSETFROM:-0900
TZOFFSETTO:-0800
RDATE:20210314T020000
END:DAYLIGHT
END:VTIMEZONE
BEGIN:VEVENT
UID:f7f0c743-7a16-40ff-99d7-beb9d158836a
DTSTAMP:20260421T173434Z
DESCRIPTION:Must purchase tickets in advance over the phone.
DTSTART;TZID=America/Anchorage:20200814T193000
DTEND;TZID=America/Anchorage:20200814T210000
LOCATION:Kayhi Auditorium
SUMMARY:Frst City Players Frog and Toad
END:VEVENT
END:VCALENDAR
