BEGIN:VCALENDAR
VERSION:2.0
PRODID:-//www.ketchikanarts.org//NONSGML kigkonsult.se iCalcreator 2.30.10/
 /
CALSCALE:GREGORIAN
METHOD:PUBLISH
UID:5f7cbde9-cc6b-4899-90f3-1273a29e346c
X-WR-CALDESC:Rob Holston performs Obvious Jazz every Friday and Saturday 6-
 8 PM at the Timbers Restaurant located in the Salmon Falls Resort North To
 ngass Hwy.
X-WR-RELCALID:8df5e5d2ba0edc3c5bad4f1a8152230a
X-WR-TIMEZONE:America/Anchorage
BEGIN:VTIMEZONE
TZID:America/Anchorage
BEGIN:STANDARD
TZNAME:AKST
DTSTART:20191103T020000
TZOFFSETFROM:-0800
TZOFFSETTO:-0900
RDATE:20201101T020000
RDATE:20211107T020000
END:STANDARD
BEGIN:DAYLIGHT
TZNAME:AKDT
DTSTART:20200308T020000
TZOFFSETFROM:-0900
TZOFFSETTO:-0800
RDATE:20210314T020000
END:DAYLIGHT
END:VTIMEZONE
BEGIN:VEVENT
UID:81637f57-94b2-41f6-ad84-c976ef505eec
DTSTAMP:20260421T173605Z
DESCRIPTION:Rob Holston performs Obvious Jazz every Friday and Saturday 6-8
  PM at the Timbers Restaurant located in the Salmon Falls Resort North Ton
 gass Hwy.
DTSTART;TZID=America/Anchorage:20200814T180000
DTEND;TZID=America/Anchorage:20200814T200000
LOCATION:Timbers Resturant Salmon Falls Resort
SUMMARY:Obvious Jazz
END:VEVENT
END:VCALENDAR
