BEGIN:VCALENDAR
VERSION:2.0
PRODID:-//www.ketchikanarts.org//NONSGML kigkonsult.se iCalcreator 2.30.10/
 /
CALSCALE:GREGORIAN
METHOD:PUBLISH
UID:f73f2095-ac90-4de2-8c6a-0fafe8a5dd7e
X-WR-CALDESC:Rob Holston performs Obvious Jazz every Friday and Saturday 6-
 8 PM at the Timbers Restaurant located in the Salmon Falls Resort North To
 ngass Hwy.
X-WR-RELCALID:c5578ffd93097f60c79cedcd1345e64d
X-WR-TIMEZONE:America/Anchorage
BEGIN:VTIMEZONE
TZID:America/Anchorage
BEGIN:STANDARD
TZNAME:AKST
DTSTART:20191103T020000
TZOFFSETFROM:-0800
TZOFFSETTO:-0900
RDATE:20201101T020000
RDATE:20211107T020000
END:STANDARD
BEGIN:DAYLIGHT
TZNAME:AKDT
DTSTART:20200308T020000
TZOFFSETFROM:-0900
TZOFFSETTO:-0800
RDATE:20210314T020000
END:DAYLIGHT
END:VTIMEZONE
BEGIN:VEVENT
UID:8fbfbe55-7ebd-4487-8891-6fff80e490c1
DTSTAMP:20260421T191703Z
DESCRIPTION:Rob Holston performs Obvious Jazz every Friday and Saturday 6-8
  PM at the Timbers Restaurant located in the Salmon Falls Resort North Ton
 gass Hwy.
DTSTART;TZID=America/Anchorage:20200731T180000
DTEND;TZID=America/Anchorage:20200731T200000
LOCATION:Timbers Resturant Salmon Falls Resort
SUMMARY:Obvious Jazz
END:VEVENT
END:VCALENDAR
