BEGIN:VCALENDAR
VERSION:2.0
PRODID:-//www.ketchikanarts.org//NONSGML kigkonsult.se iCalcreator 2.30.10/
 /
CALSCALE:GREGORIAN
METHOD:PUBLISH
UID:7a3a93ad-0151-47dd-bbf7-5d0a84afa5d5
X-WR-CALDESC:Austin Hays and Colin Patton (In-Person)\nLive music. Free. 21
  and over or accompanied by a parent or legal guardian. 6:00 8:00 pm\nCree
 k Street Cabaret.
X-WR-RELCALID:d5a86770c39fc9f1e524369e4d317fe8
X-WR-TIMEZONE:America/Anchorage
BEGIN:VTIMEZONE
TZID:America/Anchorage
BEGIN:STANDARD
TZNAME:AKST
DTSTART:20191103T020000
TZOFFSETFROM:-0800
TZOFFSETTO:-0900
RDATE:20201101T020000
RDATE:20211107T020000
END:STANDARD
BEGIN:DAYLIGHT
TZNAME:AKDT
DTSTART:20200308T020000
TZOFFSETFROM:-0900
TZOFFSETTO:-0800
RDATE:20210314T020000
END:DAYLIGHT
END:VTIMEZONE
BEGIN:VEVENT
UID:0770976f-46b0-4ea8-a79d-e1341a1f68f6
DTSTAMP:20260421T192130Z
DESCRIPTION:Austin Hays and Colin Patton (In-Person)\nLive music. Free. 21 
 and over or accompanied by a parent or legal guardian. 6:00 8:00 pm\nCreek
  Street Cabaret.
DTSTART;TZID=America/Anchorage:20200731T180000
DTEND;TZID=America/Anchorage:20200731T200000
LOCATION:Creek Street Cabaret
SUMMARY:Austin Hays with Colin Patton
END:VEVENT
END:VCALENDAR
