BEGIN:VCALENDAR
VERSION:2.0
PRODID:-//www.ketchikanarts.org//NONSGML kigkonsult.se iCalcreator 2.30.10/
 /
CALSCALE:GREGORIAN
METHOD:PUBLISH
UID:6522adbb-4939-4f8a-8015-4b3302730e56
X-WR-CALDESC:Austin Hays and Colin Patton (In-Person)\nLive music. Free. 21
  and over or accompanied by a parent or legal guardian. 6:00 8:00 pm\nCree
 k Street Cabaret.
X-WR-RELCALID:2ef26c12f72c7cb400fde7a8a6cdec63
X-WR-TIMEZONE:America/Anchorage
BEGIN:VTIMEZONE
TZID:America/Anchorage
BEGIN:STANDARD
TZNAME:AKST
DTSTART:20191103T020000
TZOFFSETFROM:-0800
TZOFFSETTO:-0900
RDATE:20201101T020000
RDATE:20211107T020000
END:STANDARD
BEGIN:DAYLIGHT
TZNAME:AKDT
DTSTART:20200308T020000
TZOFFSETFROM:-0900
TZOFFSETTO:-0800
RDATE:20210314T020000
END:DAYLIGHT
END:VTIMEZONE
BEGIN:VEVENT
UID:a38b3fe8-e5d7-48ea-97a5-cdf3db1f5cf9
DTSTAMP:20260421T192123Z
DESCRIPTION:Austin Hays and Colin Patton (In-Person)\nLive music. Free. 21 
 and over or accompanied by a parent or legal guardian. 6:00 8:00 pm\nCreek
  Street Cabaret.
DTSTART;TZID=America/Anchorage:20200725T180000
DTEND;TZID=America/Anchorage:20200725T200000
LOCATION:Creek Street Cabaret
SUMMARY:Austin Hays and Colin Patton
END:VEVENT
END:VCALENDAR
