BEGIN:VCALENDAR
VERSION:2.0
PRODID:-//www.ketchikanarts.org//NONSGML kigkonsult.se iCalcreator 2.30.10/
 /
CALSCALE:GREGORIAN
METHOD:PUBLISH
UID:255840ed-6a0c-41a5-a66f-39565463b969
X-WR-CALDESC:Rob Holston performs Obvious Jazz every Friday and Saturday 6-
 8 PM at the Timbers Restaurant located in the Salmon Falls Resort North To
 ngass Hwy.
X-WR-RELCALID:0079e60c23c3e3e7eaf236265084f5e9
X-WR-TIMEZONE:America/Anchorage
BEGIN:VTIMEZONE
TZID:America/Anchorage
BEGIN:STANDARD
TZNAME:AKST
DTSTART:20191103T020000
TZOFFSETFROM:-0800
TZOFFSETTO:-0900
RDATE:20201101T020000
RDATE:20211107T020000
END:STANDARD
BEGIN:DAYLIGHT
TZNAME:AKDT
DTSTART:20200308T020000
TZOFFSETFROM:-0900
TZOFFSETTO:-0800
RDATE:20210314T020000
END:DAYLIGHT
END:VTIMEZONE
BEGIN:VEVENT
UID:8d4207fe-58d3-464e-a6a8-e3166f5e4b6c
DTSTAMP:20260421T191817Z
DESCRIPTION:Rob Holston performs Obvious Jazz every Friday and Saturday 6-8
  PM at the Timbers Restaurant located in the Salmon Falls Resort North Ton
 gass Hwy.
DTSTART;TZID=America/Anchorage:20200724T180000
DTEND;TZID=America/Anchorage:20200724T200000
LOCATION:Timbers Resturant Salmon Falls Resort
SUMMARY:Obvious Jazz
END:VEVENT
END:VCALENDAR
