BEGIN:VCALENDAR
VERSION:2.0
PRODID:-//www.ketchikanarts.org//NONSGML kigkonsult.se iCalcreator 2.30.10/
 /
CALSCALE:GREGORIAN
METHOD:PUBLISH
UID:763a600c-5f3b-40a8-8dc1-283eda01b8eb
X-WR-CALDESC:Rob Holston performs Obvious Jazz every Friday and Saturday 6-
 8 PM at the Timbers Restaurant located in the Salmon Falls Resort North To
 ngass Hwy.
X-WR-RELCALID:eca331b42cd20c0e968e78a5a59872eb
X-WR-TIMEZONE:America/Anchorage
BEGIN:VTIMEZONE
TZID:America/Anchorage
BEGIN:STANDARD
TZNAME:AKST
DTSTART:20191103T020000
TZOFFSETFROM:-0800
TZOFFSETTO:-0900
RDATE:20201101T020000
RDATE:20211107T020000
END:STANDARD
BEGIN:DAYLIGHT
TZNAME:AKDT
DTSTART:20200308T020000
TZOFFSETFROM:-0900
TZOFFSETTO:-0800
RDATE:20210314T020000
END:DAYLIGHT
END:VTIMEZONE
BEGIN:VEVENT
UID:7e98394c-45ca-4cf4-a4c3-dcf2e7ba8713
DTSTAMP:20260421T191800Z
DESCRIPTION:Rob Holston performs Obvious Jazz every Friday and Saturday 6-8
  PM at the Timbers Restaurant located in the Salmon Falls Resort North Ton
 gass Hwy.
DTSTART;TZID=America/Anchorage:20200717T180000
DTEND;TZID=America/Anchorage:20200717T200000
LOCATION:Timbers Resturant Salmon Falls Resort
SUMMARY:Obvious Jazz
END:VEVENT
END:VCALENDAR
