BEGIN:VCALENDAR
VERSION:2.0
PRODID:-//www.ketchikanarts.org//NONSGML kigkonsult.se iCalcreator 2.30.10/
 /
CALSCALE:GREGORIAN
METHOD:PUBLISH
UID:2b8c13ad-5054-449e-9b82-4de9cb443c9f
X-WR-CALDESC:Austin Hays and Colin Patton (In-Person)\nLive music. Free. 21
  and over or accompanied by a parent or legal guardian. 6:00 8:00 pm\nCree
 k Street Cabaret.
X-WR-RELCALID:3532d671862c63bbeecc08dbb895b244
X-WR-TIMEZONE:America/Anchorage
BEGIN:VTIMEZONE
TZID:America/Anchorage
BEGIN:STANDARD
TZNAME:AKST
DTSTART:20191103T020000
TZOFFSETFROM:-0800
TZOFFSETTO:-0900
RDATE:20201101T020000
RDATE:20211107T020000
END:STANDARD
BEGIN:DAYLIGHT
TZNAME:AKDT
DTSTART:20200308T020000
TZOFFSETFROM:-0900
TZOFFSETTO:-0800
RDATE:20210314T020000
END:DAYLIGHT
END:VTIMEZONE
BEGIN:VEVENT
UID:1baaa81b-6be1-4ee7-bc6a-06dbad89bfb3
DTSTAMP:20260421T192247Z
DESCRIPTION:Austin Hays and Colin Patton (In-Person)\nLive music. Free. 21 
 and over or accompanied by a parent or legal guardian. 6:00 8:00 pm\nCreek
  Street Cabaret.
DTSTART;TZID=America/Anchorage:20200717T180000
DTEND;TZID=America/Anchorage:20200717T200000
LOCATION:Creek Street Cabaret
SUMMARY:Austin Hays with Colin Patton
END:VEVENT
END:VCALENDAR
