BEGIN:VCALENDAR
VERSION:2.0
PRODID:-//www.ketchikanarts.org//NONSGML kigkonsult.se iCalcreator 2.30.10/
 /
CALSCALE:GREGORIAN
METHOD:PUBLISH
UID:585f25ff-48af-486f-a09c-9ea19db3ce97
X-WR-CALDESC:Fireworks start at 11:00 pm!
X-WR-RELCALID:1c70c43d7bb14f7b446f2ca62ae55f1a
X-WR-TIMEZONE:America/Anchorage
BEGIN:VTIMEZONE
TZID:America/Anchorage
BEGIN:STANDARD
TZNAME:AKST
DTSTART:20191103T020000
TZOFFSETFROM:-0800
TZOFFSETTO:-0900
RDATE:20201101T020000
RDATE:20211107T020000
END:STANDARD
BEGIN:DAYLIGHT
TZNAME:AKDT
DTSTART:20200308T020000
TZOFFSETFROM:-0900
TZOFFSETTO:-0800
RDATE:20210314T020000
END:DAYLIGHT
END:VTIMEZONE
BEGIN:VEVENT
UID:660608d3-7c97-4ebf-8761-c4a450906d03
DTSTAMP:20260421T191832Z
DESCRIPTION:Fireworks start at 11:00 pm!
DTSTART;TZID=America/Anchorage:20200704T230000
DTEND;TZID=America/Anchorage:20200705T000000
LOCATION:The Sky
SUMMARY:Happy 4th of July
END:VEVENT
END:VCALENDAR
