BEGIN:VCALENDAR
VERSION:2.0
PRODID:-//www.ketchikanarts.org//NONSGML kigkonsult.se iCalcreator 2.30.10/
 /
CALSCALE:GREGORIAN
METHOD:PUBLISH
UID:eeebb957-5274-4a1e-83be-682fe91c618f
X-WR-CALDESC:Friday\, July 3\, 8:00 - 10:00 pm\nWestern Flyers (In Person)
 \nStart the Independence Weekend off with local music. Featuring the debat
 e of the 'Western Flyers' a group that has pleasantly evolved from the Rat
 fish Wranglers DNA. lineage.\n$5 at the door. 21 and over or accompanied b
 y a parent or legal guardian. Creek Street Cabaret 
X-WR-RELCALID:0b95e23b8a7db9e0249792edb005e029
X-WR-TIMEZONE:America/Anchorage
BEGIN:VTIMEZONE
TZID:America/Anchorage
BEGIN:STANDARD
TZNAME:AKST
DTSTART:20191103T020000
TZOFFSETFROM:-0800
TZOFFSETTO:-0900
RDATE:20201101T020000
RDATE:20211107T020000
END:STANDARD
BEGIN:DAYLIGHT
TZNAME:AKDT
DTSTART:20200308T020000
TZOFFSETFROM:-0900
TZOFFSETTO:-0800
RDATE:20210314T020000
END:DAYLIGHT
END:VTIMEZONE
BEGIN:VEVENT
UID:f09b47b7-6995-4124-a191-519db2bfeb4a
DTSTAMP:20260421T191615Z
DESCRIPTION:Friday\, July 3\, 8:00 - 10:00 pm\nWestern Flyers (In Person)\n
 Start the Independence Weekend off with local music. Featuring the debate 
 of the 'Western Flyers' a group that has pleasantly evolved from the Ratfi
 sh Wranglers DNA. lineage.\n$5 at the door. 21 and over or accompanied by 
 a parent or legal guardian. Creek Street Cabaret 
DTSTART;TZID=America/Anchorage:20200703T200000
DTEND;TZID=America/Anchorage:20200703T220000
LOCATION:Creek Street Cabaret
SUMMARY:Western Flyers
END:VEVENT
END:VCALENDAR
