BEGIN:VCALENDAR
VERSION:2.0
PRODID:-//www.ketchikanarts.org//NONSGML kigkonsult.se iCalcreator 2.30.10/
 /
CALSCALE:GREGORIAN
METHOD:PUBLISH
UID:e175ae99-57e0-42d3-b713-3795df892287
X-WR-CALDESC:This meeting is the Rainy Day Quilt guild is a monthly meeting
 . The group meets in the basement room of the church beginning at 6:30pm o
 n the 4th Tuesday of the month.
X-WR-RELCALID:400cbe16dced2eb76c8bc04fc2cfb6e0
X-WR-TIMEZONE:America/Anchorage
BEGIN:VTIMEZONE
TZID:America/Anchorage
BEGIN:STANDARD
TZNAME:AKST
DTSTART:20191103T020000
TZOFFSETFROM:-0800
TZOFFSETTO:-0900
RDATE:20201101T020000
RDATE:20211107T020000
END:STANDARD
BEGIN:DAYLIGHT
TZNAME:AKDT
DTSTART:20200308T020000
TZOFFSETFROM:-0900
TZOFFSETTO:-0800
RDATE:20210314T020000
END:DAYLIGHT
END:VTIMEZONE
BEGIN:VEVENT
UID:8e5b5be6-fedc-410f-a215-672d8a47db31
DTSTAMP:20260421T205808Z
DESCRIPTION:This meeting is the Rainy Day Quilt guild is a monthly meeting.
  The group meets in the basement room of the church beginning at 6:30pm on
  the 4th Tuesday of the month.
DTSTART;TZID=America/Anchorage:20200623T183000
DTEND;TZID=America/Anchorage:20200623T200000
LOCATION:Holy Name Catholic Church
SUMMARY:Rainy Day Quilt Guild Monthly Meeting
END:VEVENT
END:VCALENDAR
