BEGIN:VCALENDAR
VERSION:2.0
PRODID:-//www.ketchikanarts.org//NONSGML kigkonsult.se iCalcreator 2.30.10/
 /
CALSCALE:GREGORIAN
METHOD:PUBLISH
UID:e3e4b58d-f3ae-41f5-a783-78c24e9dfcb8
X-WR-CALDESC:Monthly Board of Directors Meeting
X-WR-RELCALID:a7ac07a9d6e076f1dd1235614ef6f33e
X-WR-TIMEZONE:America/Anchorage
BEGIN:VTIMEZONE
TZID:America/Anchorage
BEGIN:STANDARD
TZNAME:AKST
DTSTART:20191103T020000
TZOFFSETFROM:-0800
TZOFFSETTO:-0900
RDATE:20201101T020000
RDATE:20211107T020000
END:STANDARD
BEGIN:DAYLIGHT
TZNAME:AKDT
DTSTART:20200308T020000
TZOFFSETFROM:-0900
TZOFFSETTO:-0800
RDATE:20210314T020000
END:DAYLIGHT
END:VTIMEZONE
BEGIN:VEVENT
UID:6520154b-3e58-47ee-988c-4fd0fc669195
DTSTAMP:20260421T210006Z
DESCRIPTION:Monthly Board of Directors Meeting
DTSTART;TZID=America/Anchorage:20200617T173000
DTEND;TZID=America/Anchorage:20200617T190000
LOCATION:Main Street Gallery
SUMMARY:Ketchikan Area Arts and Humanities Board of Directors Meeting
END:VEVENT
END:VCALENDAR
