BEGIN:VCALENDAR
VERSION:2.0
PRODID:-//www.ketchikanarts.org//NONSGML kigkonsult.se iCalcreator 2.30.10/
 /
CALSCALE:GREGORIAN
METHOD:PUBLISH
UID:c0128a3a-2096-4e8c-893c-45137e8b1061
X-WR-CALDESC:Sealaska Heritage Art Internship 2020\nArt Internships will be
  awarded to art students with two years of college experience who are purs
 uing an art and science degree\, preferably with a focus on Northwest Coas
 t/Alaska Native arts through studio arts\, performing arts and technology\
 , or creative writing. One internship will be offered to an art student wi
 th some video editing experience.
X-WR-RELCALID:c0223c2ab0fd520a20932c139c80bd41
X-WR-TIMEZONE:America/Anchorage
BEGIN:VTIMEZONE
TZID:America/Anchorage
BEGIN:STANDARD
TZNAME:AKST
DTSTART:20191103T020000
TZOFFSETFROM:-0800
TZOFFSETTO:-0900
RDATE:20201101T020000
RDATE:20211107T020000
END:STANDARD
BEGIN:DAYLIGHT
TZNAME:AKDT
DTSTART:20200308T020000
TZOFFSETFROM:-0900
TZOFFSETTO:-0800
RDATE:20210314T020000
END:DAYLIGHT
END:VTIMEZONE
BEGIN:VEVENT
UID:3e1f85f4-97e4-4335-963d-5562cd6bcf9b
DTSTAMP:20260421T205411Z
DESCRIPTION:Sealaska Heritage Art Internship 2020\nArt Internships will be 
 awarded to art students with two years of college experience who are pursu
 ing an art and science degree\, preferably with a focus on Northwest Coast
 /Alaska Native arts through studio arts\, performing arts and technology\,
  or creative writing. One internship will be offered to an art student wit
 h some video editing experience.
DTSTART;TZID=America/Anchorage:20200605T090000
DTEND;TZID=America/Anchorage:20200605T170000
LOCATION:Sealaska Heritage Institute
SUMMARY:Sealaska Heritage Art Internship 2020
END:VEVENT
END:VCALENDAR
