BEGIN:VCALENDAR
VERSION:2.0
PRODID:-//www.ketchikanarts.org//NONSGML kigkonsult.se iCalcreator 2.30.10/
 /
CALSCALE:GREGORIAN
METHOD:PUBLISH
UID:dc3d77dd-2ab6-4885-bf20-7d5d01404b9d
X-WR-CALDESC:Austin Hays\, Chazz Gist\, Kyle Bailey\, Jillian Pollock\, Sha
 wna Lee\,  plus others
X-WR-RELCALID:0028f5e4a37f57407304ec9200ad09af
X-WR-TIMEZONE:America/Anchorage
BEGIN:VTIMEZONE
TZID:America/Anchorage
BEGIN:STANDARD
TZNAME:AKST
DTSTART:20191103T020000
TZOFFSETFROM:-0800
TZOFFSETTO:-0900
RDATE:20201101T020000
RDATE:20211107T020000
END:STANDARD
BEGIN:DAYLIGHT
TZNAME:AKDT
DTSTART:20200308T020000
TZOFFSETFROM:-0900
TZOFFSETTO:-0800
RDATE:20210314T020000
END:DAYLIGHT
END:VTIMEZONE
BEGIN:VEVENT
UID:5666c6c4-54c3-4b56-a46a-034fdf4cf508
DTSTAMP:20260421T205457Z
DESCRIPTION:Austin Hays\, Chazz Gist\, Kyle Bailey\, Jillian Pollock\, Shaw
 na Lee\,  plus others
DTSTART;TZID=America/Anchorage:20200605T193000
DTEND;TZID=America/Anchorage:20200605T220000
LOCATION:Creek Street Cabaret
SUMMARY:Cancelled! Billy Joel Tribute: Just One More
END:VEVENT
END:VCALENDAR
