BEGIN:VCALENDAR
VERSION:2.0
PRODID:-//www.ketchikanarts.org//NONSGML kigkonsult.se iCalcreator 2.30.10/
 /
CALSCALE:GREGORIAN
METHOD:PUBLISH
UID:a34268dc-4a19-4817-9558-e75b9f29dca4
X-WR-CALDESC:\nEvery Friday\, May 22 - Aug 28\nWoody's Finest Hour's Live M
 usic Live Stream Chat and Trivia\nfacebook.com/woodysfinesthour/live\nA we
 ekly live stream concert! Win fun prizes play trivia!
X-WR-RELCALID:4d1383de28e285b2c713001145dcd6dd
X-WR-TIMEZONE:America/Anchorage
BEGIN:VTIMEZONE
TZID:America/Anchorage
BEGIN:STANDARD
TZNAME:AKST
DTSTART:20191103T020000
TZOFFSETFROM:-0800
TZOFFSETTO:-0900
RDATE:20201101T020000
RDATE:20211107T020000
END:STANDARD
BEGIN:DAYLIGHT
TZNAME:AKDT
DTSTART:20200308T020000
TZOFFSETFROM:-0900
TZOFFSETTO:-0800
RDATE:20210314T020000
END:DAYLIGHT
END:VTIMEZONE
BEGIN:VEVENT
UID:9a749108-4fc5-444d-91f0-0d569a80a695
DTSTAMP:20260421T205606Z
DESCRIPTION:\nEvery Friday\, May 22 - Aug 28\nWoody's Finest Hour's Live Mu
 sic Live Stream Chat and Trivia\nfacebook.com/woodysfinesthour/live\nA wee
 kly live stream concert! Win fun prizes play trivia!
DTSTART;TZID=America/Anchorage:20200605T200000
DTEND;TZID=America/Anchorage:20200605T220000
LOCATION:Comfort of your own home!
SUMMARY:Woody's Finest Hour
END:VEVENT
END:VCALENDAR
