BEGIN:VCALENDAR
VERSION:2.0
PRODID:-//www.ketchikanarts.org//NONSGML kigkonsult.se iCalcreator 2.30.10/
 /
CALSCALE:GREGORIAN
METHOD:PUBLISH
UID:469cbb0d-6c72-402c-aa82-f50d2e6bd316
X-WR-CALDESC:KRBD will live broadcast a First City Players Play!!! TBA
X-WR-RELCALID:999c518541916918bbb57bbde5c00138
X-WR-TIMEZONE:America/Anchorage
BEGIN:VTIMEZONE
TZID:America/Anchorage
BEGIN:STANDARD
TZNAME:AKST
DTSTART:20191103T020000
TZOFFSETFROM:-0800
TZOFFSETTO:-0900
RDATE:20201101T020000
RDATE:20211107T020000
END:STANDARD
BEGIN:DAYLIGHT
TZNAME:AKDT
DTSTART:20200308T020000
TZOFFSETFROM:-0900
TZOFFSETTO:-0800
RDATE:20210314T020000
END:DAYLIGHT
END:VTIMEZONE
BEGIN:VEVENT
UID:785861bf-edcc-45df-97ca-9fffcbc29e00
DTSTAMP:20260421T222240Z
DESCRIPTION:KRBD will live broadcast a First City Players Play!!! TBA
DTSTART;TZID=America/Anchorage:20200530T170000
DTEND;TZID=America/Anchorage:20200530T190000
LOCATION:Safety of your Own Home
SUMMARY:The Importance of Being Earnest
END:VEVENT
END:VCALENDAR
