BEGIN:VCALENDAR
VERSION:2.0
PRODID:-//www.ketchikanarts.org//NONSGML kigkonsult.se iCalcreator 2.30.10/
 /
CALSCALE:GREGORIAN
METHOD:PUBLISH
UID:ec9782ff-130c-4e70-ad3e-3ec9b2e449a9
X-WR-CALDESC:Final Grind of the Season has been cancelled!!!
X-WR-RELCALID:1c04a3ceb7eb50d8ca3a483ed21ab91c
X-WR-TIMEZONE:America/Anchorage
BEGIN:VTIMEZONE
TZID:America/Anchorage
BEGIN:STANDARD
TZNAME:AKST
DTSTART:20191103T020000
TZOFFSETFROM:-0800
TZOFFSETTO:-0900
RDATE:20201101T020000
RDATE:20211107T020000
END:STANDARD
BEGIN:DAYLIGHT
TZNAME:AKDT
DTSTART:20200308T020000
TZOFFSETFROM:-0900
TZOFFSETTO:-0800
RDATE:20210314T020000
END:DAYLIGHT
END:VTIMEZONE
BEGIN:VEVENT
UID:ddc31d83-1542-4e3b-b9ee-aa967e873055
DTSTAMP:20260421T221951Z
DESCRIPTION:Final Grind of the Season has been cancelled!!!
DTSTART;TZID=America/Anchorage:20200516T190000
DTEND;TZID=America/Anchorage:20200516T210000
LOCATION:Saxman Tribal House
SUMMARY:Cancelled=- The Monthly Grind
END:VEVENT
END:VCALENDAR
