BEGIN:VCALENDAR
VERSION:2.0
PRODID:-//www.ketchikanarts.org//NONSGML kigkonsult.se iCalcreator 2.30.10/
 /
CALSCALE:GREGORIAN
METHOD:PUBLISH
UID:6c2cecf0-19b9-42b5-b0cb-5b4af929733c
X-WR-CALDESC:Join the Schoenbar Middle School Music Program for their final
  concert of the year!
X-WR-RELCALID:712180089a4f54be0b980762aabcfd03
X-WR-TIMEZONE:America/Anchorage
BEGIN:VTIMEZONE
TZID:America/Anchorage
BEGIN:STANDARD
TZNAME:AKST
DTSTART:20191103T020000
TZOFFSETFROM:-0800
TZOFFSETTO:-0900
RDATE:20201101T020000
RDATE:20211107T020000
END:STANDARD
BEGIN:DAYLIGHT
TZNAME:AKDT
DTSTART:20200308T020000
TZOFFSETFROM:-0900
TZOFFSETTO:-0800
RDATE:20210314T020000
END:DAYLIGHT
END:VTIMEZONE
BEGIN:VEVENT
UID:af1642ae-9502-4c69-98c6-443aead0a470
DTSTAMP:20260421T222240Z
DESCRIPTION:Join the Schoenbar Middle School Music Program for their final 
 concert of the year!
DTSTART;TZID=America/Anchorage:20200512T190000
DTEND;TZID=America/Anchorage:20200512T203000
LOCATION:Kayhi Auditorium
SUMMARY:Cancelled Schoenbar Middle School Concert
END:VEVENT
END:VCALENDAR
