BEGIN:VCALENDAR
VERSION:2.0
PRODID:-//www.ketchikanarts.org//NONSGML kigkonsult.se iCalcreator 2.30.10/
 /
CALSCALE:GREGORIAN
METHOD:PUBLISH
UID:3aca3ace-8157-4883-972f-277f6236272d
X-WR-CALDESC:The Board of Director's of KRBD meet monthly at the station be
 ginning at 5:30pm\, on the first Wednesday of the month. This meeting is t
 o discuss the workings of the radio station.
X-WR-RELCALID:8daa010494cc6c6893c94eda28d571d5
X-WR-TIMEZONE:America/Anchorage
BEGIN:VTIMEZONE
TZID:America/Anchorage
BEGIN:STANDARD
TZNAME:AKST
DTSTART:20191103T020000
TZOFFSETFROM:-0800
TZOFFSETTO:-0900
RDATE:20201101T020000
END:STANDARD
BEGIN:DAYLIGHT
TZNAME:AKDT
DTSTART:20200308T020000
TZOFFSETFROM:-0900
TZOFFSETTO:-0800
RDATE:20210314T020000
END:DAYLIGHT
END:VTIMEZONE
BEGIN:VEVENT
UID:7c3d2a33-6be7-40fe-beda-99e4f3eb07fa
DTSTAMP:20260421T223136Z
DESCRIPTION:The Board of Director's of KRBD meet monthly at the station beg
 inning at 5:30pm\, on the first Wednesday of the month. This meeting is to
  discuss the workings of the radio station.
DTSTART;TZID=America/Anchorage:20200506T173000
DTEND;TZID=America/Anchorage:20200506T190000
LOCATION:KRBD Station
SUMMARY:KRBD Ketchikan Community Radio - Board of Directors' Meeting
END:VEVENT
END:VCALENDAR
