BEGIN:VCALENDAR
VERSION:2.0
PRODID:-//www.ketchikanarts.org//NONSGML kigkonsult.se iCalcreator 2.30.10/
 /
CALSCALE:GREGORIAN
METHOD:PUBLISH
UID:0fd53959-a4a4-4cce-9434-829ace11420f
X-WR-CALDESC:POSTPONED!!!\nFirst City Players Production of the Ugly Duckli
 ng. Ugly is--well\, little Ugly is a different sort of duckling\, isn't he
 ? But his story\, in this musical adaptation of the classic Hans Christian
  Andersen tale\, winningly affirms the virtues of tolerance.\nFCP producti
 on features a multi-generation cast and crew.\n\nJoin FCP as our beleaguer
 ed cygnet goes on an adventure of self-discovery -- avoiding a hungry cat'
 s wiles\, meeting a farmyard of peculiar characters and learning that diff
 erent is OK.
X-WR-RELCALID:7798511c1c6709e0585d13d834ee6867
X-WR-TIMEZONE:America/Anchorage
BEGIN:VTIMEZONE
TZID:America/Anchorage
BEGIN:STANDARD
TZNAME:AKST
DTSTART:20191103T020000
TZOFFSETFROM:-0800
TZOFFSETTO:-0900
RDATE:20201101T020000
END:STANDARD
BEGIN:DAYLIGHT
TZNAME:AKDT
DTSTART:20200308T020000
TZOFFSETFROM:-0900
TZOFFSETTO:-0800
RDATE:20210314T020000
END:DAYLIGHT
END:VTIMEZONE
BEGIN:VEVENT
UID:88432236-9bca-455b-a56a-141a47295acf
DTSTAMP:20260421T222056Z
DESCRIPTION:POSTPONED!!!\nFirst City Players Production of the Ugly Ducklin
 g. Ugly is--well\, little Ugly is a different sort of duckling\, isn't he?
  But his story\, in this musical adaptation of the classic Hans Christian 
 Andersen tale\, winningly affirms the virtues of tolerance.\nFCP productio
 n features a multi-generation cast and crew.\n\nJoin FCP as our beleaguere
 d cygnet goes on an adventure of self-discovery -- avoiding a hungry cat's
  wiles\, meeting a farmyard of peculiar characters and learning that diffe
 rent is OK.
DTSTART;TZID=America/Anchorage:20200503T140000
DTEND;TZID=America/Anchorage:20200503T160000
LOCATION:Kayhi Auditorium
SUMMARY:POSTPONED!! FCP - Honk
END:VEVENT
END:VCALENDAR
