BEGIN:VCALENDAR
VERSION:2.0
PRODID:-//www.ketchikanarts.org//NONSGML kigkonsult.se iCalcreator 2.30.10/
 /
CALSCALE:GREGORIAN
METHOD:PUBLISH
UID:7bb6f3a2-7342-4a7b-8dde-b4e158091910
X-WR-CALDESC:Fairbanks Arts Council's Virtual Opening of 'Resilience'  May 
 1st @6:00 pm
X-WR-RELCALID:0a2b12aff9b5a2ebef255b63852a53ae
X-WR-TIMEZONE:America/Anchorage
BEGIN:VTIMEZONE
TZID:America/Anchorage
BEGIN:STANDARD
TZNAME:AKST
DTSTART:20191103T020000
TZOFFSETFROM:-0800
TZOFFSETTO:-0900
RDATE:20201101T020000
END:STANDARD
BEGIN:DAYLIGHT
TZNAME:AKDT
DTSTART:20200308T020000
TZOFFSETFROM:-0900
TZOFFSETTO:-0800
RDATE:20210314T020000
END:DAYLIGHT
END:VTIMEZONE
BEGIN:VEVENT
UID:b24099b7-de4b-4678-bcab-920c88638534
DTSTAMP:20260421T222010Z
DESCRIPTION:Fairbanks Arts Council's Virtual Opening of 'Resilience'  May 1
 st @6:00 pm
DTSTART;TZID=America/Anchorage:20200501T180000
DTEND;TZID=America/Anchorage:20200501T190000
LOCATION:Online
SUMMARY:'Resilience' Online Opening
END:VEVENT
END:VCALENDAR
