BEGIN:VCALENDAR
VERSION:2.0
PRODID:-//www.ketchikanarts.org//NONSGML kigkonsult.se iCalcreator 2.30.10/
 /
CALSCALE:GREGORIAN
METHOD:PUBLISH
UID:a38cf245-c863-45cb-804f-93aa8f9e78f7
X-WR-CALDESC:Diane Slagle \nCreek Street's Good Time Gals
X-WR-RELCALID:cc5bde9cee9354493365aec63cbd39fe
X-WR-TIMEZONE:America/Anchorage
BEGIN:VTIMEZONE
TZID:America/Anchorage
BEGIN:STANDARD
TZNAME:AKST
DTSTART:20191103T020000
TZOFFSETFROM:-0800
TZOFFSETTO:-0900
RDATE:20201101T020000
END:STANDARD
BEGIN:DAYLIGHT
TZNAME:AKDT
DTSTART:20200308T020000
TZOFFSETFROM:-0900
TZOFFSETTO:-0800
RDATE:20210314T020000
END:DAYLIGHT
END:VTIMEZONE
BEGIN:VEVENT
UID:2e6c11b2-6c5d-4033-8f6f-814b6e5c32bc
DTSTAMP:20260421T235031Z
DESCRIPTION:Diane Slagle \nCreek Street's Good Time Gals
DTSTART;TZID=America/Anchorage:20200430T120000
DTEND;TZID=America/Anchorage:20200430T130000
LOCATION:Tongass Historical Museum
SUMMARY:Canceled Museum Midday
END:VEVENT
END:VCALENDAR
