BEGIN:VCALENDAR
VERSION:2.0
PRODID:-//www.ketchikanarts.org//NONSGML kigkonsult.se iCalcreator 2.30.10/
 /
CALSCALE:GREGORIAN
METHOD:PUBLISH
UID:a9fa0bd6-313b-4093-9099-dac88016fa9b
X-WR-CALDESC:POSTPONED!!!\nJoin The Ketchikan Orchestra Project for this Sp
 ring performance. The performance will include pieces by Bach\, Beethoven 
 and Dvorak. Stay tuned for more information!
X-WR-RELCALID:5f5542a21de2113c6ccd156bb2bb62ed
X-WR-TIMEZONE:America/Anchorage
BEGIN:VTIMEZONE
TZID:America/Anchorage
BEGIN:STANDARD
TZNAME:AKST
DTSTART:20191103T020000
TZOFFSETFROM:-0800
TZOFFSETTO:-0900
RDATE:20201101T020000
END:STANDARD
BEGIN:DAYLIGHT
TZNAME:AKDT
DTSTART:20200308T020000
TZOFFSETFROM:-0900
TZOFFSETTO:-0800
RDATE:20210314T020000
END:DAYLIGHT
END:VTIMEZONE
BEGIN:VEVENT
UID:e8c6e5c2-6c8a-4cfd-9a7b-64ac74c78539
DTSTAMP:20260421T235315Z
DESCRIPTION:POSTPONED!!!\nJoin The Ketchikan Orchestra Project for this Spr
 ing performance. The performance will include pieces by Bach\, Beethoven a
 nd Dvorak. Stay tuned for more information!
DTSTART;TZID=America/Anchorage:20200426T150000
DTEND;TZID=America/Anchorage:20200426T160000
LOCATION:First Lutheran Church
SUMMARY:POSTPONED! The Ketchikan Orchestra Project Performance
END:VEVENT
END:VCALENDAR
