BEGIN:VCALENDAR
VERSION:2.0
PRODID:-//www.ketchikanarts.org//NONSGML kigkonsult.se iCalcreator 2.30.10/
 /
CALSCALE:GREGORIAN
METHOD:PUBLISH
UID:62f1136f-4536-42e4-b8ef-be6923d33fcd
X-WR-CALDESC:'Resilience' an open entry exhibition on the world wide web!\n
 Join the Fairbanks Arts Council in their response to social isolating!\nA 
 Statewide call for resilience! What does resilience mean to you?\nSubmit u
 p to 3 pieces of good quality artwork between April 10 - April 24th!\nOpen
 ing online reception on May 1st!
X-WR-RELCALID:093118ba0066767659e98804f9c08a7d
X-WR-TIMEZONE:America/Anchorage
BEGIN:VTIMEZONE
TZID:America/Anchorage
BEGIN:STANDARD
TZNAME:AKST
DTSTART:20191103T020000
TZOFFSETFROM:-0800
TZOFFSETTO:-0900
RDATE:20201101T020000
END:STANDARD
BEGIN:DAYLIGHT
TZNAME:AKDT
DTSTART:20200308T020000
TZOFFSETFROM:-0900
TZOFFSETTO:-0800
RDATE:20210314T020000
END:DAYLIGHT
END:VTIMEZONE
BEGIN:VEVENT
UID:0e8bc27e-cc26-4ad5-b60b-881c5971a7da
DTSTAMP:20260421T234716Z
DESCRIPTION:'Resilience' an open entry exhibition on the world wide web!\nJ
 oin the Fairbanks Arts Council in their response to social isolating!\nA S
 tatewide call for resilience! What does resilience mean to you?\nSubmit up
  to 3 pieces of good quality artwork between April 10 - April 24th!\nOpeni
 ng online reception on May 1st!
DTSTART;TZID=America/Anchorage:20200424T090000
DTEND;TZID=America/Anchorage:20200424T233000
LOCATION:Online
SUMMARY:Resilience Open Call
END:VEVENT
END:VCALENDAR
