BEGIN:VCALENDAR
VERSION:2.0
PRODID:-//www.ketchikanarts.org//NONSGML kigkonsult.se iCalcreator 2.30.10/
 /
CALSCALE:GREGORIAN
METHOD:PUBLISH
UID:3deaac95-f009-4403-8047-72bd0eed2f59
X-WR-CALDESC:Gloria Burns Cedar Bark Harvesting Protocol
X-WR-RELCALID:a013593d4fecac7424f210cec0275ea2
X-WR-TIMEZONE:America/Anchorage
BEGIN:VTIMEZONE
TZID:America/Anchorage
BEGIN:STANDARD
TZNAME:AKST
DTSTART:20191103T020000
TZOFFSETFROM:-0800
TZOFFSETTO:-0900
RDATE:20201101T020000
END:STANDARD
BEGIN:DAYLIGHT
TZNAME:AKDT
DTSTART:20200308T020000
TZOFFSETFROM:-0900
TZOFFSETTO:-0800
RDATE:20210314T020000
END:DAYLIGHT
END:VTIMEZONE
BEGIN:VEVENT
UID:2de21a68-bbee-4de6-849c-113e66ce01ea
DTSTAMP:20260421T234950Z
DESCRIPTION:Gloria Burns Cedar Bark Harvesting Protocol
DTSTART;TZID=America/Anchorage:20200423T120000
DTEND;TZID=America/Anchorage:20200423T130000
LOCATION:Tongass Historical Museum
SUMMARY:Canceled Museum Midday
END:VEVENT
END:VCALENDAR
