BEGIN:VCALENDAR
VERSION:2.0
PRODID:-//www.ketchikanarts.org//NONSGML kigkonsult.se iCalcreator 2.30.10/
 /
CALSCALE:GREGORIAN
METHOD:PUBLISH
UID:95d518b2-1d72-4a67-8eb1-4c9f9105a76b
X-WR-CALDESC:Auditions are conducted at the First City Players Office at 33
 5 Main Street. Only need to attend one audition.
X-WR-RELCALID:73a260f43a030b26ebbfcdd93d363297
X-WR-TIMEZONE:America/Anchorage
BEGIN:VTIMEZONE
TZID:America/Anchorage
BEGIN:STANDARD
TZNAME:AKST
DTSTART:20191103T020000
TZOFFSETFROM:-0800
TZOFFSETTO:-0900
RDATE:20201101T020000
END:STANDARD
BEGIN:DAYLIGHT
TZNAME:AKDT
DTSTART:20200308T020000
TZOFFSETFROM:-0900
TZOFFSETTO:-0800
RDATE:20210314T020000
END:DAYLIGHT
END:VTIMEZONE
BEGIN:VEVENT
UID:5157be3d-14ec-4a0a-8629-aa172a374cf8
DTSTAMP:20260421T235433Z
DESCRIPTION:Auditions are conducted at the First City Players Office at 335
  Main Street. Only need to attend one audition.
DTSTART;TZID=America/Anchorage:20200420T180000
DTEND;TZID=America/Anchorage:20200420T190000
LOCATION:First City Players Office
SUMMARY:Canceled FCP - AUDITIONS The Little Prince
END:VEVENT
END:VCALENDAR
