BEGIN:VCALENDAR
VERSION:2.0
PRODID:-//www.ketchikanarts.org//NONSGML kigkonsult.se iCalcreator 2.30.10/
 /
CALSCALE:GREGORIAN
METHOD:PUBLISH
UID:4f590081-6338-4f6f-afd8-8b297448eb38
X-WR-CALDESC:POSTPONED TO A LATER DATE!!!\nJoin the Ketchikan Community Cho
 rus for their Spring performance with their new Music Director\, Tanya Ant
 onsen!!! The Spring performance is always fun-filled and exciting and this
  year will be no different! \n\nStay tuned for new date and information
X-WR-RELCALID:743be825cd7eb6c3c172492f8ffbb02b
X-WR-TIMEZONE:America/Anchorage
BEGIN:VTIMEZONE
TZID:America/Anchorage
BEGIN:STANDARD
TZNAME:AKST
DTSTART:20191103T020000
TZOFFSETFROM:-0800
TZOFFSETTO:-0900
RDATE:20201101T020000
END:STANDARD
BEGIN:DAYLIGHT
TZNAME:AKDT
DTSTART:20200308T020000
TZOFFSETFROM:-0900
TZOFFSETTO:-0800
RDATE:20210314T020000
END:DAYLIGHT
END:VTIMEZONE
BEGIN:VEVENT
UID:038b8d43-2393-4622-8209-6bb77a94af67
DTSTAMP:20260421T235139Z
DESCRIPTION:POSTPONED TO A LATER DATE!!!\nJoin the Ketchikan Community Chor
 us for their Spring performance with their new Music Director\, Tanya Anto
 nsen!!! The Spring performance is always fun-filled and exciting and this 
 year will be no different! \n\nStay tuned for new date and information
DTSTART;TZID=America/Anchorage:20200417T190000
DTEND;TZID=America/Anchorage:20200417T210000
LOCATION:To be determined!
SUMMARY:Ketchikan Community Chorus Spring Performance POSTPONED!
END:VEVENT
END:VCALENDAR
