BEGIN:VCALENDAR
VERSION:2.0
PRODID:-//www.ketchikanarts.org//NONSGML kigkonsult.se iCalcreator 2.30.10/
 /
CALSCALE:GREGORIAN
METHOD:PUBLISH
UID:17092c64-53f8-43ed-b470-029f375a71ee
X-WR-CALDESC:Highschool  Music Fest located in Sitka\, AK
X-WR-RELCALID:9f0349c0895a6d0136d4bc3e8df5aca6
X-WR-TIMEZONE:America/Anchorage
BEGIN:VTIMEZONE
TZID:America/Anchorage
BEGIN:STANDARD
TZNAME:AKST
DTSTART:20191103T020000
TZOFFSETFROM:-0800
TZOFFSETTO:-0900
RDATE:20201101T020000
END:STANDARD
BEGIN:DAYLIGHT
TZNAME:AKDT
DTSTART:20200308T020000
TZOFFSETFROM:-0900
TZOFFSETTO:-0800
RDATE:20210314T020000
END:DAYLIGHT
END:VTIMEZONE
BEGIN:VEVENT
UID:cf2f1085-8e70-4b4a-90fe-ee33e3ad2684
DTSTAMP:20260421T235030Z
DESCRIPTION:Highschool  Music Fest located in Sitka\, AK
DTSTART;TZID=America/Anchorage:20200416T090000
DTEND;TZID=America/Anchorage:20200418T170000
LOCATION:Sitka\, AK.
SUMMARY:Canceled Music Fest
END:VEVENT
END:VCALENDAR
