BEGIN:VCALENDAR
VERSION:2.0
PRODID:-//www.ketchikanarts.org//NONSGML kigkonsult.se iCalcreator 2.30.10/
 /
CALSCALE:GREGORIAN
METHOD:PUBLISH
UID:a08111af-3fb1-47ae-8a14-b04214ac7683
X-WR-CALDESC:Monthly Board of Directors Meeting view by Facebook Live
X-WR-RELCALID:13c755b3eee559d4d1f28d9690fde5f9
X-WR-TIMEZONE:America/Anchorage
BEGIN:VTIMEZONE
TZID:America/Anchorage
BEGIN:STANDARD
TZNAME:AKST
DTSTART:20191103T020000
TZOFFSETFROM:-0800
TZOFFSETTO:-0900
RDATE:20201101T020000
END:STANDARD
BEGIN:DAYLIGHT
TZNAME:AKDT
DTSTART:20200308T020000
TZOFFSETFROM:-0900
TZOFFSETTO:-0800
RDATE:20210314T020000
END:DAYLIGHT
END:VTIMEZONE
BEGIN:VEVENT
UID:07c0c6f4-4858-4a86-85cd-eb31cfc0b5f8
DTSTAMP:20260421T235724Z
DESCRIPTION:Monthly Board of Directors Meeting view by Facebook Live
DTSTART;TZID=America/Anchorage:20200415T173000
DTEND;TZID=America/Anchorage:20200415T190000
LOCATION:Main Street Gallery
SUMMARY:Ketchikan Area Arts and Humanities Board of Directors Meeting
END:VEVENT
END:VCALENDAR
