BEGIN:VCALENDAR
VERSION:2.0
PRODID:-//www.ketchikanarts.org//NONSGML kigkonsult.se iCalcreator 2.30.10/
 /
CALSCALE:GREGORIAN
METHOD:PUBLISH
UID:ee2695d7-1064-4e81-ac15-7ffce4895a2e
X-WR-CALDESC:Alison Bremner Humor and Innovation in Northwest Coast Art
X-WR-RELCALID:b90f890e13ad14b4367a6fc003a1e668
X-WR-TIMEZONE:America/Anchorage
BEGIN:VTIMEZONE
TZID:America/Anchorage
BEGIN:STANDARD
TZNAME:AKST
DTSTART:20191103T020000
TZOFFSETFROM:-0800
TZOFFSETTO:-0900
RDATE:20201101T020000
END:STANDARD
BEGIN:DAYLIGHT
TZNAME:AKDT
DTSTART:20200308T020000
TZOFFSETFROM:-0900
TZOFFSETTO:-0800
RDATE:20210314T020000
END:DAYLIGHT
END:VTIMEZONE
BEGIN:VEVENT
UID:c22b3b66-85fc-4ab6-b9ec-17535d50a8db
DTSTAMP:20260421T234950Z
DESCRIPTION:Alison Bremner Humor and Innovation in Northwest Coast Art
DTSTART;TZID=America/Anchorage:20200409T120000
DTEND;TZID=America/Anchorage:20200409T130000
LOCATION:Tongass Historical Museum
SUMMARY:Canceled Museum Midday
END:VEVENT
END:VCALENDAR
