BEGIN:VCALENDAR
VERSION:2.0
PRODID:-//www.ketchikanarts.org//NONSGML kigkonsult.se iCalcreator 2.30.10/
 /
CALSCALE:GREGORIAN
METHOD:PUBLISH
UID:d64260c0-5a60-490b-87fd-6d3585e9e6c5
X-WR-CALDESC:The Board of Director's of KRBD meet monthly at the station be
 ginning at 5:30pm\, on the first Wednesday of the month. This meeting is t
 o discuss the workings of the radio station.
X-WR-RELCALID:2054e00c916b67f45476437b3fe6a2b3
X-WR-TIMEZONE:America/Anchorage
BEGIN:VTIMEZONE
TZID:America/Anchorage
BEGIN:STANDARD
TZNAME:AKST
DTSTART:20191103T020000
TZOFFSETFROM:-0800
TZOFFSETTO:-0900
RDATE:20201101T020000
END:STANDARD
BEGIN:DAYLIGHT
TZNAME:AKDT
DTSTART:20200308T020000
TZOFFSETFROM:-0900
TZOFFSETTO:-0800
RDATE:20210314T020000
END:DAYLIGHT
END:VTIMEZONE
BEGIN:VEVENT
UID:db9e23fc-012b-4e5c-b124-bff4c855f3f9
DTSTAMP:20260421T235633Z
DESCRIPTION:The Board of Director's of KRBD meet monthly at the station beg
 inning at 5:30pm\, on the first Wednesday of the month. This meeting is to
  discuss the workings of the radio station.
DTSTART;TZID=America/Anchorage:20200401T173000
DTEND;TZID=America/Anchorage:20200401T190000
LOCATION:KRBD Station
SUMMARY:KRBD Ketchikan Community Radio - Board of Directors' Meeting
END:VEVENT
END:VCALENDAR
