BEGIN:VCALENDAR
VERSION:2.0
PRODID:-//www.ketchikanarts.org//NONSGML kigkonsult.se iCalcreator 2.30.10/
 /
CALSCALE:GREGORIAN
METHOD:PUBLISH
UID:5ea59374-2e62-4abc-b555-50fc6040fa79
X-WR-CALDESC:Entry Deadline: Friday\, March 27\, 2020\, 5:00pm\nMailed entr
 ies must include return postage.\nSubmit your work to: \nSoutheast Alaska 
 Discovery Center\n50 Main St. Ketchikan\, Ak 99901\nC/O Hummingbird Festiv
 al
X-WR-RELCALID:3eaeb1c863ed60226aee821878e6b0cb
X-WR-TIMEZONE:America/Anchorage
BEGIN:VTIMEZONE
TZID:America/Anchorage
BEGIN:STANDARD
TZNAME:AKST
DTSTART:20191103T020000
TZOFFSETFROM:-0800
TZOFFSETTO:-0900
RDATE:20201101T020000
END:STANDARD
BEGIN:DAYLIGHT
TZNAME:AKDT
DTSTART:20200308T020000
TZOFFSETFROM:-0900
TZOFFSETTO:-0800
RDATE:20210314T020000
END:DAYLIGHT
END:VTIMEZONE
BEGIN:VEVENT
UID:5f6eacc5-8875-44e9-b47d-1b608966aede
DTSTAMP:20260422T012233Z
DESCRIPTION:Entry Deadline: Friday\, March 27\, 2020\, 5:00pm\nMailed entri
 es must include return postage.\nSubmit your work to: \nSoutheast Alaska D
 iscovery Center\n50 Main St. Ketchikan\, Ak 99901\nC/O Hummingbird Festiva
 l
DTSTART;TZID=America/Anchorage:20200327T090000
DTEND;TZID=America/Anchorage:20200327T170000
LOCATION:Southeast Alaska Discovery Center
SUMMARY:Alaska Hummingbird Juried Art Show Deadline
END:VEVENT
END:VCALENDAR
