BEGIN:VCALENDAR
VERSION:2.0
PRODID:-//www.ketchikanarts.org//NONSGML kigkonsult.se iCalcreator 2.30.10/
 /
CALSCALE:GREGORIAN
METHOD:PUBLISH
UID:2cc7d262-61b2-4372-94c7-42ad1af3280b
X-WR-CALDESC:This Saturday Morning Art Class has been CANCELED! Studies in 
 Macro!  Instructor Loren McCue for ages 1st through 6th. Take a closer loo
 k at the still life around you. Students explore multiple different medium
 s while studying still-life up close and personal. Get into the details. S
 ix Saturday classes culminate in an art reception at Loren's studio\, The 
 Artery during the Celebration of the Sea Art Walk\, May 1st.
X-WR-RELCALID:3a2d120071206b7bd8ea20a69d370375
X-WR-TIMEZONE:America/Anchorage
BEGIN:VTIMEZONE
TZID:America/Anchorage
BEGIN:STANDARD
TZNAME:AKST
DTSTART:20191103T020000
TZOFFSETFROM:-0800
TZOFFSETTO:-0900
RDATE:20201101T020000
END:STANDARD
BEGIN:DAYLIGHT
TZNAME:AKDT
DTSTART:20200308T020000
TZOFFSETFROM:-0900
TZOFFSETTO:-0800
RDATE:20210314T020000
END:DAYLIGHT
END:VTIMEZONE
BEGIN:VEVENT
UID:e62f3fac-e382-4cf1-9f32-f972887dfb6b
DTSTAMP:20260422T012435Z
DESCRIPTION:This Saturday Morning Art Class has been CANCELED! Studies in M
 acro!  Instructor Loren McCue for ages 1st through 6th. Take a closer look
  at the still life around you. Students explore multiple different mediums
  while studying still-life up close and personal. Get into the details. Si
 x Saturday classes culminate in an art reception at Loren's studio\, The A
 rtery during the Celebration of the Sea Art Walk\, May 1st.
DTSTART;TZID=America/Anchorage:20200321T100000
DTEND;TZID=America/Anchorage:20200321T120000
LOCATION:The ARTery Art Straight from the Heart
SUMMARY:CANCELED!! smART Class with Loren McCue
END:VEVENT
END:VCALENDAR
