BEGIN:VCALENDAR
VERSION:2.0
PRODID:-//www.ketchikanarts.org//NONSGML kigkonsult.se iCalcreator 2.30.10/
 /
CALSCALE:GREGORIAN
METHOD:PUBLISH
UID:ef8aca8b-a99f-44c7-9766-3d415162fe31
X-WR-CALDESC:The Trend Alaska Fashion SHow aims to showcase Alaskan artists
  and designers.
X-WR-RELCALID:7df892e3b7c87c2d3f12b730c11833be
X-WR-TIMEZONE:America/Anchorage
BEGIN:VTIMEZONE
TZID:America/Anchorage
BEGIN:STANDARD
TZNAME:AKST
DTSTART:20191103T020000
TZOFFSETFROM:-0800
TZOFFSETTO:-0900
RDATE:20201101T020000
END:STANDARD
BEGIN:DAYLIGHT
TZNAME:AKDT
DTSTART:20200308T020000
TZOFFSETFROM:-0900
TZOFFSETTO:-0800
RDATE:20210314T020000
END:DAYLIGHT
END:VTIMEZONE
BEGIN:VEVENT
UID:92fe5b3e-f98a-4f54-8142-991fcd5c1e04
DTSTAMP:20260422T012727Z
DESCRIPTION:The Trend Alaska Fashion SHow aims to showcase Alaskan artists 
 and designers.
DTSTART;TZID=America/Anchorage:20200315T090000
DTEND;TZID=America/Anchorage:20200315T170000
LOCATION:Anchorage\, Alaska
SUMMARY:Trend Alaska Fashion Show Application Deadline
END:VEVENT
END:VCALENDAR
