BEGIN:VCALENDAR
VERSION:2.0
PRODID:-//www.ketchikanarts.org//NONSGML kigkonsult.se iCalcreator 2.30.10/
 /
CALSCALE:GREGORIAN
METHOD:PUBLISH
UID:7849ad5e-c735-4a47-be56-1e1c77392f78
X-WR-CALDESC:Auditions are held at the First City Players Office at 335 Mai
 n Street. Only need to attend one audition.
X-WR-RELCALID:a8c052a5c0ccf96eb8258af8c4e640b8
X-WR-TIMEZONE:America/Anchorage
BEGIN:VTIMEZONE
TZID:America/Anchorage
BEGIN:STANDARD
TZNAME:AKST
DTSTART:20191103T020000
TZOFFSETFROM:-0800
TZOFFSETTO:-0900
RDATE:20201101T020000
END:STANDARD
BEGIN:DAYLIGHT
TZNAME:AKDT
DTSTART:20190310T020000
TZOFFSETFROM:-0900
TZOFFSETTO:-0800
RDATE:20200308T020000
RDATE:20210314T020000
END:DAYLIGHT
END:VTIMEZONE
BEGIN:VEVENT
UID:53b360ec-a78e-43e9-a79c-d404dafa70ac
DTSTAMP:20260422T012106Z
DESCRIPTION:Auditions are held at the First City Players Office at 335 Main
  Street. Only need to attend one audition.
DTSTART;TZID=America/Anchorage:20200309T180000
DTEND;TZID=America/Anchorage:20200309T190000
LOCATION:First City Players Office
SUMMARY:FCP - AUDITIONS Honk
END:VEVENT
END:VCALENDAR
