BEGIN:VCALENDAR
VERSION:2.0
PRODID:-//www.ketchikanarts.org//NONSGML kigkonsult.se iCalcreator 2.30.10/
 /
CALSCALE:GREGORIAN
METHOD:PUBLISH
UID:0c1c228f-0945-45aa-9798-b15dc9a67a79
X-WR-CALDESC:The Main Street Gallery is a program of the Ketchikan Area Art
 s and Humanities Council\, it is a non-profit\, year-round\, fine art exhi
 bition space committed to:\nProviding exhibit opportunities for both emerg
 ing and established artists\;\nExposing the Ketchikan area community to a 
 broad variety of visual art forms\;\nEncouraging local participation and a
 ppreciation of the arts\; \nNurturing community artist development\; and\n
 Providing an encouraging environment for innovative art forms.\nThe KAAHC 
 is looking for 6 exhibits for the next Main Street Gallery Season!
X-WR-RELCALID:e367c404b535d51e9f67b5bbc27f5c43
X-WR-TIMEZONE:America/Anchorage
BEGIN:VTIMEZONE
TZID:America/Anchorage
BEGIN:STANDARD
TZNAME:AKST
DTSTART:20191103T020000
TZOFFSETFROM:-0800
TZOFFSETTO:-0900
RDATE:20201101T020000
END:STANDARD
BEGIN:DAYLIGHT
TZNAME:AKDT
DTSTART:20190310T020000
TZOFFSETFROM:-0900
TZOFFSETTO:-0800
RDATE:20200308T020000
RDATE:20210314T020000
END:DAYLIGHT
END:VTIMEZONE
BEGIN:VEVENT
UID:821f269c-b11d-4a0a-939a-88edf51ffe54
DTSTAMP:20260422T012520Z
DESCRIPTION:The Main Street Gallery is a program of the Ketchikan Area Arts
  and Humanities Council\, it is a non-profit\, year-round\, fine art exhib
 ition space committed to:\nProviding exhibit opportunities for both emergi
 ng and established artists\;\nExposing the Ketchikan area community to a b
 road variety of visual art forms\;\nEncouraging local participation and ap
 preciation of the arts\; \nNurturing community artist development\; and\nP
 roviding an encouraging environment for innovative art forms.\nThe KAAHC i
 s looking for 6 exhibits for the next Main Street Gallery Season!
DTSTART;TZID=America/Anchorage:20200302T090000
DTEND;TZID=America/Anchorage:20200302T170000
LOCATION:Main Street Gallery
SUMMARY:2020- 2021 Main Street Gallery Call
END:VEVENT
END:VCALENDAR
