BEGIN:VCALENDAR
VERSION:2.0
PRODID:-//www.ketchikanarts.org//NONSGML kigkonsult.se iCalcreator 2.30.10/
 /
CALSCALE:GREGORIAN
METHOD:PUBLISH
UID:4cfdee21-6d24-40ac-b81c-fce1531c2eef
X-WR-CALDESC:Prizes and catering!!!\nNine bands!!!\n$10 at the door
X-WR-RELCALID:a8ea66c619150e8276d50a080f8d2aa5
X-WR-TIMEZONE:America/Anchorage
BEGIN:VTIMEZONE
TZID:America/Anchorage
BEGIN:STANDARD
TZNAME:AKST
DTSTART:20191103T020000
TZOFFSETFROM:-0800
TZOFFSETTO:-0900
RDATE:20201101T020000
END:STANDARD
BEGIN:DAYLIGHT
TZNAME:AKDT
DTSTART:20190310T020000
TZOFFSETFROM:-0900
TZOFFSETTO:-0800
RDATE:20200308T020000
RDATE:20210314T020000
END:DAYLIGHT
END:VTIMEZONE
BEGIN:VEVENT
UID:cdbdb23e-361a-45a9-b541-fe62537cb473
DTSTAMP:20260422T030503Z
DESCRIPTION:Prizes and catering!!!\nNine bands!!!\n$10 at the door
DTSTART;TZID=America/Anchorage:20200228T190000
DTEND;TZID=America/Anchorage:20200228T210000
LOCATION:Creek Street Cabaret
SUMMARY:3rd Annual Joe Williams Ketchiversary
END:VEVENT
END:VCALENDAR
