BEGIN:VCALENDAR
VERSION:2.0
PRODID:-//www.ketchikanarts.org//NONSGML kigkonsult.se iCalcreator 2.30.10/
 /
CALSCALE:GREGORIAN
METHOD:PUBLISH
UID:54658bf7-39a1-4292-a927-520c789673f0
X-WR-CALDESC:Southeast Alaska Lighthouses
X-WR-RELCALID:5feed416592bf1fa8a203d4d94134fa2
X-WR-TIMEZONE:America/Anchorage
BEGIN:VTIMEZONE
TZID:America/Anchorage
BEGIN:STANDARD
TZNAME:AKST
DTSTART:20191103T020000
TZOFFSETFROM:-0800
TZOFFSETTO:-0900
RDATE:20201101T020000
END:STANDARD
BEGIN:DAYLIGHT
TZNAME:AKDT
DTSTART:20190310T020000
TZOFFSETFROM:-0900
TZOFFSETTO:-0800
RDATE:20200308T020000
RDATE:20210314T020000
END:DAYLIGHT
END:VTIMEZONE
BEGIN:VEVENT
UID:eaf0e5b3-5b50-42bd-a9e7-3539a691bfd8
DTSTAMP:20260422T030519Z
DESCRIPTION:Southeast Alaska Lighthouses
DTSTART;TZID=America/Anchorage:20200220T120000
DTEND;TZID=America/Anchorage:20200220T130000
LOCATION:Tongass Historical Museum
SUMMARY:Museum Midday with Andrew Washburn
END:VEVENT
END:VCALENDAR
