BEGIN:VCALENDAR
VERSION:2.0
PRODID:-//www.ketchikanarts.org//NONSGML kigkonsult.se iCalcreator 2.30.10/
 /
CALSCALE:GREGORIAN
METHOD:PUBLISH
UID:f4223da7-8af8-4a21-a451-c48f4c9d7587
X-WR-CALDESC:General Admission $15
X-WR-RELCALID:86912959d51d8d541ad61b871cc7433c
X-WR-TIMEZONE:America/Anchorage
BEGIN:VTIMEZONE
TZID:America/Anchorage
BEGIN:STANDARD
TZNAME:AKST
DTSTART:20191103T020000
TZOFFSETFROM:-0800
TZOFFSETTO:-0900
RDATE:20201101T020000
END:STANDARD
BEGIN:DAYLIGHT
TZNAME:AKDT
DTSTART:20190310T020000
TZOFFSETFROM:-0900
TZOFFSETTO:-0800
RDATE:20200308T020000
RDATE:20210314T020000
END:DAYLIGHT
END:VTIMEZONE
BEGIN:VEVENT
UID:69410e3f-85a6-4b81-97f9-6e949da20807
DTSTAMP:20260422T030344Z
DESCRIPTION:General Admission $15
DTSTART;TZID=America/Anchorage:20200220T193000
DTEND;TZID=America/Anchorage:20200220T210000
LOCATION:Kayhi Auditorium
SUMMARY:Evening of Dance
END:VEVENT
END:VCALENDAR
