BEGIN:VCALENDAR
VERSION:2.0
PRODID:-//www.ketchikanarts.org//NONSGML kigkonsult.se iCalcreator 2.30.10/
 /
CALSCALE:GREGORIAN
METHOD:PUBLISH
UID:f87697f6-f2e2-41eb-8906-d8ffcf953fbb
X-WR-CALDESC:
X-WR-RELCALID:d04133ec147fd0a15c9dc8a442309c1b
X-WR-TIMEZONE:America/Anchorage
BEGIN:VTIMEZONE
TZID:America/Anchorage
BEGIN:STANDARD
TZNAME:AKST
DTSTART:20191103T020000
TZOFFSETFROM:-0800
TZOFFSETTO:-0900
RDATE:20201101T020000
END:STANDARD
BEGIN:DAYLIGHT
TZNAME:AKDT
DTSTART:20190310T020000
TZOFFSETFROM:-0900
TZOFFSETTO:-0800
RDATE:20200308T020000
RDATE:20210314T020000
END:DAYLIGHT
END:VTIMEZONE
BEGIN:VEVENT
UID:67393ec2-9a2b-421c-bb55-cec7077ea11c
DTSTAMP:20260422T030929Z
DESCRIPTION:
DTSTART;TZID=America/Anchorage:20200216T100000
DTEND;TZID=America/Anchorage:20200216T160000
LOCATION:Ted Ferry Civic Center
SUMMARY:The 29th Annual Quilting in the Rain Quilt Show!
END:VEVENT
END:VCALENDAR
