BEGIN:VCALENDAR
VERSION:2.0
PRODID:-//www.ketchikanarts.org//NONSGML kigkonsult.se iCalcreator 2.30.10/
 /
CALSCALE:GREGORIAN
METHOD:PUBLISH
UID:b39eb178-541c-4e83-8a33-5aaf83326d1e
X-WR-CALDESC:Lorraine Kahle discusses Regalia and Beading
X-WR-RELCALID:5ffa892aeb662ecc79aa2bfb236da980
X-WR-TIMEZONE:America/Anchorage
BEGIN:VTIMEZONE
TZID:America/Anchorage
BEGIN:STANDARD
TZNAME:AKST
DTSTART:20191103T020000
TZOFFSETFROM:-0800
TZOFFSETTO:-0900
RDATE:20201101T020000
END:STANDARD
BEGIN:DAYLIGHT
TZNAME:AKDT
DTSTART:20190310T020000
TZOFFSETFROM:-0900
TZOFFSETTO:-0800
RDATE:20200308T020000
RDATE:20210314T020000
END:DAYLIGHT
END:VTIMEZONE
BEGIN:VEVENT
UID:3599c5da-d987-45e3-885c-c48fa948df53
DTSTAMP:20260422T030540Z
DESCRIPTION:Lorraine Kahle discusses Regalia and Beading
DTSTART;TZID=America/Anchorage:20200213T120000
DTEND;TZID=America/Anchorage:20200213T130000
LOCATION:Tongass Historical Museum
SUMMARY:Museum Midday with Lorraine Kahle
END:VEVENT
END:VCALENDAR
