BEGIN:VCALENDAR
VERSION:2.0
PRODID:-//www.ketchikanarts.org//NONSGML kigkonsult.se iCalcreator 2.30.10/
 /
CALSCALE:GREGORIAN
METHOD:PUBLISH
UID:514acaaf-ed7d-4e8e-bce1-17bd59af6636
X-WR-CALDESC:How lovely for Valentine's Day!\n\nJoin First City Players at 
 New York Cafe for dinner theatre featuring Love Letters by A.R. Gurney.\n
 \nA childhood friendship plays out in decades of poignant correspondence\,
  her adult life and his diverging through the course of marriages\, career
 s\, and calamities -- and briefly intersecting in middle age.\n\nTwo actor
 s embody the tender history of a pair divided in fact\, but inseparable in
  spirit.
X-WR-RELCALID:3ef9fbc823fc19822774ef35eef198ee
X-WR-TIMEZONE:America/Anchorage
BEGIN:VTIMEZONE
TZID:America/Anchorage
BEGIN:STANDARD
TZNAME:AKST
DTSTART:20191103T020000
TZOFFSETFROM:-0800
TZOFFSETTO:-0900
RDATE:20201101T020000
END:STANDARD
BEGIN:DAYLIGHT
TZNAME:AKDT
DTSTART:20190310T020000
TZOFFSETFROM:-0900
TZOFFSETTO:-0800
RDATE:20200308T020000
RDATE:20210314T020000
END:DAYLIGHT
END:VTIMEZONE
BEGIN:VEVENT
UID:65792929-8875-4af8-98e9-fc779f472eba
DTSTAMP:20260422T030803Z
DESCRIPTION:How lovely for Valentine's Day!\n\nJoin First City Players at N
 ew York Cafe for dinner theatre featuring Love Letters by A.R. Gurney.\n\n
 A childhood friendship plays out in decades of poignant correspondence\, h
 er adult life and his diverging through the course of marriages\, careers\
 , and calamities -- and briefly intersecting in middle age.\n\nTwo actors 
 embody the tender history of a pair divided in fact\, but inseparable in s
 pirit.
DTSTART;TZID=America/Anchorage:20200208T190000
DTEND;TZID=America/Anchorage:20200208T220000
LOCATION:New York Cafe
SUMMARY:FCP- Production of Love Letters
END:VEVENT
END:VCALENDAR
